BEGIN:VCALENDAR
VERSION:2.0
PRODID:-//wp-events-plugin.com//7.2.3.1//EN
TZID:America/New_York
X-WR-TIMEZONE:America/New_York
BEGIN:VEVENT
UID:1245@biozshul.org
DTSTART:20170224T000000Z
DTEND:20170225T000000Z
DTSTAMP:20170116T091524Z
URL:https://www.biozshul.org/events/scholar-in-residence/
SUMMARY:Scholar In Residence
DESCRIPTION:Please scroll below to make reservations.\n\n\n\n&nbsp\;\n\nPle
 ase reserve here:\n\n[gravityform id="12" title="true" description="true"]
ATTACH;FMTTYPE=image/jpeg:https://www.biozshul.org/wp-content/uploads/2017
 /01/scholar-in-residence-2017.jpg
CATEGORIES:Featured Events
LOCATION:Bnai Israel Ohev Zedek\, 8201 Castor Ave\, Philadelphia\, Pennsylv
 ania\, 19152\, United States
GEO:40.06427;-75.05327290000002
X-APPLE-STRUCTURED-LOCATION;VALUE=URI;X-ADDRESS=8201 Castor Ave\, Philadelp
 hia\, Pennsylvania\, 19152\, United States;X-APPLE-RADIUS=100;X-TITLE=Bnai
  Israel Ohev Zedek:geo:40.06427,-75.05327290000002
END:VEVENT
END:VCALENDAR