BEGIN:VCALENDAR
VERSION:2.0
PRODID:-//wp-events-plugin.com//7.2.3.1//EN
TZID:America/New_York
X-WR-TIMEZONE:America/New_York
BEGIN:VEVENT
UID:1812@biozshul.org
DTSTART:20220309T194500Z
DTEND:20220309T204500Z
DTSTAMP:20220224T215150Z
URL:https://www.biozshul.org/events/a-pre-purim-discussion-on-esther/
SUMMARY:A Pre-Purim Discussion on Esther
DESCRIPTION:
ATTACH;FMTTYPE=image/jpeg:https://www.biozshul.org/wp-content/uploads/2022
 /02/Esther.-purim-zumba.png
CATEGORIES:Featured Events
END:VEVENT
END:VCALENDAR